BEGIN:VCALENDAR
VERSION:2.0
PRODID:-//Kleingartenverein Ettlingen - ECPv6.15.20//NONSGML v1.0//EN
CALSCALE:GREGORIAN
METHOD:PUBLISH
X-ORIGINAL-URL:https://kv-ettlingen.de
X-WR-CALDESC:Veranstaltungen für Kleingartenverein Ettlingen
REFRESH-INTERVAL;VALUE=DURATION:PT1H
X-Robots-Tag:noindex
X-PUBLISHED-TTL:PT1H
BEGIN:VTIMEZONE
TZID:Europe/Paris
BEGIN:DAYLIGHT
TZOFFSETFROM:+0100
TZOFFSETTO:+0200
TZNAME:CEST
DTSTART:20240331T010000
END:DAYLIGHT
BEGIN:STANDARD
TZOFFSETFROM:+0200
TZOFFSETTO:+0100
TZNAME:CET
DTSTART:20241027T010000
END:STANDARD
BEGIN:DAYLIGHT
TZOFFSETFROM:+0100
TZOFFSETTO:+0200
TZNAME:CEST
DTSTART:20250330T010000
END:DAYLIGHT
BEGIN:STANDARD
TZOFFSETFROM:+0200
TZOFFSETTO:+0100
TZNAME:CET
DTSTART:20251026T010000
END:STANDARD
BEGIN:DAYLIGHT
TZOFFSETFROM:+0100
TZOFFSETTO:+0200
TZNAME:CEST
DTSTART:20260329T010000
END:DAYLIGHT
BEGIN:STANDARD
TZOFFSETFROM:+0200
TZOFFSETTO:+0100
TZNAME:CET
DTSTART:20261025T010000
END:STANDARD
END:VTIMEZONE
BEGIN:VEVENT
DTSTART;TZID=Europe/Paris:20250208T090000
DTEND;TZID=Europe/Paris:20250208T113000
DTSTAMP:20260424T160433
CREATED:20250213T112651Z
LAST-MODIFIED:20250213T122907Z
UID:191-1739005200-1739014200@kv-ettlingen.de
SUMMARY:Obstbaumschnittkurse zum Mitmachen
DESCRIPTION:Jeder\, der sich bereits mit dem Thema beschäftigt hat\, merkt\, dass der “richtige Obstbaumschnitt” ein Thema für sich ist. Der eigene Baum im Garten sieht dann doch anders aus und das eigene Vorhaben wird wieder vertagt.\nBei dem Obstbaumschnittkurs werden sowohl theoretische Grundlagen besprochen\, als auch selbst am Baum unter Anleitung gearbeitet. Auch Bilder von eigenen Problembäumen können mitgebracht und besprochen werden. Rainer Iben von Baumschule- Floristik-Gartengestaltung Iben hat sich bereit erklärt\, den Kurs für uns zu leiten. Alle Vereinsmitglieder die Interesse haben\, sind eingeladen. Der Schnittkurs ist kostenfrei\, der Verein hofft daher\, das viele Kleingärtner des Vereins den Kurs besuchen werden.
URL:https://kv-ettlingen.de/veranstaltung/obstbaumschnittkurse-zum-mitmachen/
LOCATION:Eiswiese Parkplatz\, Parkplatz Eiswiese\, Ettlingen\, Bundesstaat wählen:\, 76275\, Germany
CATEGORIES:Weiterbildungen
ATTACH;FMTTYPE=image/jpeg:https://kv-ettlingen.de/wp-content/uploads/2025/02/pruning-tree-2025-01-29-04-11-03-utc-scaled.jpg
ORGANIZER;CN="Kleingartenverein Ettlingen":MAILTO:info@kv-ettlingen.de
END:VEVENT
END:VCALENDAR