BEGIN:VCALENDAR
VERSION:2.0
PRODID:-//Kleingartenverein Ettlingen - ECPv6.15.20//NONSGML v1.0//EN
CALSCALE:GREGORIAN
METHOD:PUBLISH
X-WR-CALNAME:Kleingartenverein Ettlingen
X-ORIGINAL-URL:https://kv-ettlingen.de
X-WR-CALDESC:Veranstaltungen für Kleingartenverein Ettlingen
REFRESH-INTERVAL;VALUE=DURATION:PT1H
X-Robots-Tag:noindex
X-PUBLISHED-TTL:PT1H
BEGIN:VTIMEZONE
TZID:Europe/Berlin
BEGIN:DAYLIGHT
TZOFFSETFROM:+0100
TZOFFSETTO:+0200
TZNAME:CEST
DTSTART:20250330T010000
END:DAYLIGHT
BEGIN:STANDARD
TZOFFSETFROM:+0200
TZOFFSETTO:+0100
TZNAME:CET
DTSTART:20251026T010000
END:STANDARD
BEGIN:DAYLIGHT
TZOFFSETFROM:+0100
TZOFFSETTO:+0200
TZNAME:CEST
DTSTART:20260329T010000
END:DAYLIGHT
BEGIN:STANDARD
TZOFFSETFROM:+0200
TZOFFSETTO:+0100
TZNAME:CET
DTSTART:20261025T010000
END:STANDARD
BEGIN:DAYLIGHT
TZOFFSETFROM:+0100
TZOFFSETTO:+0200
TZNAME:CEST
DTSTART:20270328T010000
END:DAYLIGHT
BEGIN:STANDARD
TZOFFSETFROM:+0200
TZOFFSETTO:+0100
TZNAME:CET
DTSTART:20271031T010000
END:STANDARD
END:VTIMEZONE
BEGIN:VEVENT
DTSTART;TZID=Europe/Berlin:20260423T180000
DTEND;TZID=Europe/Berlin:20260423T203000
DTSTAMP:20260421T182426
CREATED:20260319T140421Z
LAST-MODIFIED:20260319T140421Z
UID:458-1776967200-1776976200@kv-ettlingen.de
SUMMARY:Einladung zur Jahreshauptversammlung 2026
DESCRIPTION:Einladung zur Jahreshauptversammlung 2026\nLiebe Gartenfreundinnen\, liebe Gartenfreunde\, der Vorstand lädt alle Mitglieder herzlich zu unserer diesjährigen Jahreshauptversammlung\nein. \n\nDatum: Donnerstag\, 23. April 2026\nBeginn: 18 Uhr\nOrt: Bürgertreff Ettlingen-West (neben Penny Markt)\n\nTagesordnung \n\nBegrüßung durch den 1. Vorsitzenden\nAnnahme der Tagesordnung\nTotenehrung\nTätigkeitsbericht\nAussprache über die Tätigkeiten\nKassenbericht\nPrüfbericht der Revisoren\nAussprache über die Berichte\nEntlastung des Gesamtvorstandes\nNachwahl: 1. Kassier/in\nBeschluss der neuen Gartenordnung\nEhrungen\nGemeinschaftsarbeit\nVerschiedenes\n\nHinweise zu Anträgen: \nAnträge zur Ergänzung oder Änderung der Tagesordnung müssen schriftlich bis spätestens\n17. April 2026 im Vereinsbüro (Hohewiesenstraße 50 a) eingegangen sein. \nWir freuen uns auf euren zahlreiche Erscheinen!\nMit freundlichen Grüßen\, \nDer Vorstand
URL:https://kv-ettlingen.de/veranstaltung/einladung-zur-jahreshauptversammlung-2026/
LOCATION:Bürgertreff Ettlingen-West\, Ahornweg 89\, Ettlingen\, 76275\, Germany
ORGANIZER;CN="Kleingartenverein Ettlingen":MAILTO:info@kv-ettlingen.de
END:VEVENT
BEGIN:VEVENT
DTSTART;TZID=Europe/Berlin:20260430T170000
DTEND;TZID=Europe/Berlin:20260503T220000
DTSTAMP:20260421T182426
CREATED:20260419T171333Z
LAST-MODIFIED:20260419T171446Z
UID:465-1777568400-1777845600@kv-ettlingen.de
SUMMARY:Doppel-Jubiläum in Ettlingen-West
DESCRIPTION:Einladung zum Doppel-Jubiläum in Ettlingen-West \nDer Kleingartenverein Ettlingen e.V. feiert gemeinsam mit der Interessengemeinschaft Ettlingen-West e.V. ein besonderes Festjahr: Wir blicken stolz auf 60 Jahre Kleingartenverein und 90 Jahre Ettlingen-West zurück!\nZu diesem besonderen Anlass laden wir Sie herzlich zu unseren Feierlichkeiten ein: \n\n30. April 2026: Traditionelles Maibaumstellen mit anschließendem Tanz in den Mai.\n01. Mai 2026 (Festplatz): Große Jubiläumsausstellung zur Geschichte des Vereins und des Stadtteils.\n14:00 Uhr: Feierliche Eröffnung durch Oberbürgermeister Johannes Arnold\, Minister a.D. Dr. Erwin Vetter und Ehrenvorsitzender Josef Kosar.\nFreuen Sie sich zudem auf Tanzvorführungen der Schreberjugend\, die uns tatkräftig unterstützt.\n02. & 03. Mai 2026 (Jugendheim): Die Ausstellung ist jeweils von 10:00 bis 16:00 Uhr für Sie geöffnet.\nKommen Sie vorbei\, feiern Sie mit uns und entdecken Sie spannende Einblicke in unsere gemeinsame Geschichte.\n\nWir freuen uns auf Euren Besuch.
URL:https://kv-ettlingen.de/veranstaltung/doppel-jubilaeum-in-ettlingen-west/
LOCATION:Vereinsheim (Wirtshaus Rosine)\, Hohewiesenstraße 50a\, Ettlingen\, Bundesstaat wählen:\, 76275\, Germany
CATEGORIES:Festlichkeit
ORGANIZER;CN="Kleingartenverein Ettlingen":MAILTO:info@kv-ettlingen.de
END:VEVENT
END:VCALENDAR